Workbook

Sheet PLANILHA ORÇAMENTÁRIA
A1: PO - PLANILHA ORÇAMENTÁRIA
A2: FONTE: | C2: DATA BASE | D2: EMPREENDIMENTO | G2: MUNICÍPIO / UF | H2: BDI 1
A3: SINAPI - MG | C3: 10-21 (N DES.) | D3: CONSTRUÇÃO PREVIJAN | G3: JANAÚBA / MG | H3: 21.43
A4: SUDECAP
A6: Item | B6: Fonte | C6: Código | D6: Descrição | E6: Unidade | F6: Quantidade | G6: Custo Unitário (sem BDI) (R$) | H6: BDI (%) | I6: Preço Unitário (com BDI) (R$) | J6: Preço Total (R$)
B7: SINAPI | D7: PREVIJAN | E7: - | F7: 0 | H7: BDI 1 | I7: 0 | J7: 622241.22
A8: 1 | B8: SINAPI | D8: Instalção da Obra | E8: - | F8: 0 | H8: BDI 1 | I8: 0 | J8: 12777.05
A9: 1.1 | B9: SUDECAP | C9: 01.06.01 | D9: PADRÃO CEMIG PROVISÓRIO TIPO C3, DEMANDA PROVÁVEL DE 23,1 ATÉ 27,0KW (3F+N) | E9: UN | F9: 1 | G9: 753.29 | H9: BDI 1 | I9: 914.72 | J9: 914.72
A10: 1.2 | B10: SUDECAP | C10: 01.06.05 | D10: PADRAO COPASA - KIT CAVALTE METAL E REGISTRO 3/4" | E10: UN | F10: 1 | G10: 350.17 | H10: BDI 1 | I10: 425.21 | J10: 425.21
A11: 1.3 | B11: SUDECAP | C11: 01.17.01 | D11: GABARITO | E11: M | F11: 412 | G11: 22.86 | H11: BDI 1 | I11: 27.76 | J11: 11437.12
A12: 2 | B12: SINAPI | D12: Demolições e Remoções | E12: - | F12: 0 | G12: 0 | H12: BDI 1 | I12: 0 | J12: 0
A13: 3 | B13: SINAPI | D13: Trabalhos em Terra | E13: - | F13: 0 | H13: BDI 1 | I13: 0 | J13: 2743.2
A14: 3.1 | B14: SUDECAP | C14: 03.01.01 | D14: CAPINA MANUAL DE TERRENO | E14: M2 | F14: 600 | G14: 3.14 | H14: BDI 1 | I14: 3.81 | J14: 2286
A15: 3.2 | B15: SUDECAP | C15: 03.13.01 | D15: DMT <= 1 KM | E15: M3 | F15: 120 | G15: 3.14 | H15: BDI 1 | I15: 3.81 | J15: 457.2
A16: 4 | B16: SINAPI | D16: Fundação e Estrutura em concreto | E16: - | F16: 0 | G16: 0 | H16: BDI 1 | I16: 0 | J16: 142521.39
A17: 4.1 | B17: SUDECAP | C17: 40.20.07 | D17: FORMA DE TABUA DE PINHO DE 3a. TIPO C (5 APROV.) | E17: M2 | F17: 592.25 | G17: 58.63 | H17: BDI 1 | I17: 71.19 | J17: 42162.28
A18: 4.2 | B18: SUDECAP | C18: 04.15.21 | D18: AÇO CA-50 D = 6,3 MM | E18: KG | F18: 529 | G18: 15.3 | H18: BDI 1 | I18: 18.58 | J18: 9828.82
A19: 4.3 | B19: SUDECAP | C19: 04.15.22 | D19: AÇO CA-50 D = 8 MM | E19: KG | F19: 1500 | G19: 14.46 | H19: BDI 1 | I19: 17.56 | J19: 26340
A20: 4.4 | B20: SUDECAP | C20: 04.15.23 | D20: AÇO CA-50 D = 10 MM | E20: KG | F20: 1155 | G20: 12.56 | H20: BDI 1 | I20: 15.25 | J20: 17613.75
A21: 4.5 | B21: SUDECAP | C21: 06.03.24 | D21: AÇO CA-50 D = 12,5 MM (LAJES) | E21: KG | F21: 5.25 | G21: 10.52 | H21: BDI 1 | I21: 12.77 | J21: 67.04
A22: 4.6 | B22: SUDECAP | C22: 06.05.25 | D22: FCK >= 25 MPA, BRITA CALCÁRIA, PREPARADO EM OBRA E LANÇADO EM ESTRUTURA | E22: M3 | F22: 67.55 | G22: 554.73 | H22: BDI 1 | I22: 673.61 | J22: 45502.36
A23: 4.7 | B23: SUDECAP | C23: 40.32.07 | D23: ESCAVACAO MANUAL 1,5 < H <= 3,0 M | E23: M3 | F23: 14.51 | G23: 57.16 | H23: BDI 1 | I23: 69.41 | J23: 1007.14
A24: 5 | B24: SINAPI | D24: Contenções | E24: - | F24: 0 | G24: 0 | H24: BDI 1 | I24: 0 | J24: 0
A25: 6 | B25: SINAPI | D25: Alvenarias e Divisões | E25: - | F25: 0 | G25: 0 | H25: BDI 1 | I25: 0 | J25: 87524.27
A26: 6.1 | B26: SINAPI | C26: 87479 | D26: ALVENARIA DE VEDAÇÃO DE BLOCOS CERÂMICOS FURADOS NA VERTICAL DE 14X19X39CM (ESPESSURA 14CM) DE PAREDES COM ÁREA LÍQUIDA MAIOR OU IGUAL A 6M² SEM VÃOS E ARGAMASSA DE ASSENTAMENTO COM PREPARO EM BETONEIRA. AF_06/2014 | E26: M2 | F26: 932.32 | G26: 66.67 | H26: BDI 1 | I26: 80.96 | J26: 75480.63
A27: 6.2 | B27: SINAPI | C27: 87873 | D27: CHAPISCO APLICADO EM ALVENARIAS E ESTRUTURAS DE CONCRETO INTERNAS, COM ROLO PARA TEXTURA ACRÍLICA. ARGAMASSA TRAÇO 1:4 E EMULSÃO POLIMÉRICA (ADESIVO) COM PREPARO MANUAL. AF_06/2014 | E27: M2 | F27: 1864.34 | G27: 5.32 | H27: BDI 1 | I27: 6.46 | J27: 12043.64
A28: 7 | B28: SINAPI | D28: Coberturas e Forro | E28: - | F28: 0 | G28: 0 | H28: BDI 1 | I28: 0 | J28: 64092.44
A29: 7.1 | B29: SUDECAP | C29: 08.22.01 | D29: EM PLACAS 60 X 60 CM, LISO | E29: M2 | F29: 368.94 | G29: 32 | H29: BDI 1 | I29: 38.86 | J29: 14337.01
A30: 7.2 | B30: SUDECAP | C30: 08.12.40 | D30: GALVANIZADA TRAPEZOIDAL E=0,50MM SIMPLES | E30: M2 | F30: 200.95 | G30: 73.23 | H30: BDI 1 | I30: 88.92 | J30: 17868.47
A31: 7.3 | B31: SINAPI | C31: 100378 | D31: FABRICAÇÃO E INSTALAÇÃO DE TESOURA (INTEIRA OU MEIA) EM AÇO, VÃOS MAIORES QUE 6,0 M E MENORES QUE 12,0 M, INCLUSO IÇAMENTO. AF_07/2019 | E31: KG | F31: 1720.31 | G31: 10.57 | H31: BDI 1 | I31: 12.84 | J31: 22088.78
A32: 7.4 | B32: SUDECAP | C32: 08.09.05 | D32: ONDULADA E= 5,00 MM | E32: M2 | F32: 193.64 | G32: 41.67 | H32: BDI 1 | I32: 50.6 | J32: 9798.18
A33: 8 | B33: SINAPI | D33: Impermeabilização e Isolamentos | E33: - | F33: 0 | G33: 0 | H33: BDI 1 | I33: 0 | J33: 417.45
A34: 8.1 | B34: SUDECAP | C34: 09.12.01 | D34: PINTURA COM TINTA ASFALTICA IMPERMEABILIZANTE DILUIDA EM SOLVENTE, PARA MATERIAIS CIMENTICIOS, METAL E MADEIRA | E34: M2 | F34: 27.5 | G34: 12.5 | H34: BDI 1 | I34: 15.18 | J34: 417.45
A35: 9 | B35: SINAPI | D35: Instalações Hidro-Sanitárias | E35: - | F35: 0 | G35: 0 | H35: BDI 1 | I35: 0 | J35: 26469.06
A36: 9.1 | B36: SINAPI | C36: 100860 | D36: CHUVEIRO ELÉTRICO COMUM CORPO PLÁSTICO, TIPO DUCHA  FORNECIMENTO E INSTALAÇÃO. AF_01/2020 | E36: UN | F36: 3 | G36: 80.16 | H36: BDI 1 | I36: 97.34 | J36: 292.02
A37: 9.2 | B37: SUDECAP | C37: 10.27.23 | D37: DUCHINHA ACQUA-JET C-2195 DL FABRIMAR/EQUIVALENTE | E37: UN | F37: 4 | G37: 46.83 | H37: BDI 1 | I37: 56.87 | J37: 227.48
A38: 9.3 | B38: SUDECAP | C38: 10.24.17 | D38: DE JARDIM 1128-MY D=3/4" FABRIMAR/EQUIVALENTE | E38: UN | F38: 1 | G38: 36.41 | H38: BDI 1 | I38: 44.21 | J38: 44.21
A39: 9.4 | B39: SINAPI | C39: 86910 | D39: TORNEIRA CROMADA TUBO MÓVEL, DE PAREDE, 1/2 OU 3/4, PARA PIA DE COZINHA, PADRÃO MÉDIO - FORNECIMENTO E INSTALAÇÃO. AF_01/2020 | E39: UN | F39: 1 | G39: 93.96 | H39: BDI 1 | I39: 114.1 | J39: 114.1
A40: 9.5 | B40: SINAPI | C40: 86916 | D40: TORNEIRA PLÁSTICA 3/4 PARA TANQUE - FORNECIMENTO E INSTALAÇÃO. AF_01/2020 | E40: UN | F40: 1 | G40: 35.69 | H40: BDI 1 | I40: 43.34 | J40: 43.34
A41: 9.6 | B41: SINAPI | C41: 86906 | D41: TORNEIRA CROMADA DE MESA, 1/2 OU 3/4, PARA LAVATÓRIO, PADRÃO POPULAR - FORNECIMENTO E INSTALAÇÃO. AF_01/2020 | E41: UN | F41: 5 | G41: 55.08 | H41: BDI 1 | I41: 66.88 | J41: 334.4
...

Sheet CRONOGRAMA FÍSICO-FINANCEIRO
A1: CRONOGRAMA FÍSICO-FINANCEIRO
A2: FONTE: | C2: DATA BASE | D2: EMPREENDIMENTO | K2: MUNICÍPIO / UF | M2: BDI 1
A3: SINAPI - MG | C3: 10-21 (N DES.) | D3: CONSTRUÇÃO PREVIJAN | K3: JANAÚBA / MG | M3: 21.43
A4: SUDECAP
A7: ITEM | B7: DESCRIÇÃO | C7: VALOR (R$) | D7: MÊS 1 | E7: MÊS 2 | F7: MÊS 3 | G7: MÊS 4 | H7: MÊS 5 | J7: MÊS 6 | K7: MÊS 7 | L7: MÊS 8 | M7: MÊS 9 | N7: MÊS 10 | O7: Total parcela
A8: 1 | B8: Instalação da Obra | C8: ='PLANILHA ORÇAMENTÁRIA'!J8 -> 12777.05 | D8: 1 | O8: 100,00' %'
D9: =C8*D8 -> 12777.05 | O9: =SUM(D9:N9) -> 12777.05
A10: 2 | B10: Demolições e Remoções | C10: ='PLANILHA ORÇAMENTÁRIA'!J12 -> 0 | O10: 0,00' %'
O11: 0
A12: 3 | B12: Trabalhos em Terra | C12: ='PLANILHA ORÇAMENTÁRIA'!J13 -> 2743.2 | D12: 0.25 | E12: 0.25 | F12: 0.25 | G12: 0.25 | O12: 100,00' %'
D13: =$C$12*D12 -> 685.8 | E13: =$C$12*E12 -> 685.8 | F13: =$C$12*F12 -> 685.8 | G13: =$C$12*G12 -> 685.8 | O13: =SUM(D13:G13) -> 2743.2
A14: 4 | B14: Fundação e Estrutura em concreto | C14: ='PLANILHA ORÇAMENTÁRIA'!J16 -> 142521.39 | D14: 0.125 | E14: 0.125 | F14: 0.125 | G14: 0.125 | H14: 0.125 | J14: 0.125 | K14: 0.125 | L14: 0.125 | O14: 100,00' %'
D15: =$C$14*D14 -> 17815.174 | E15: =$C$14*E14 -> 17815.174 | F15: =$C$14*F14 -> 17815.174 | G15: =$C$14*G14 -> 17815.174 | H15: =$C$14*H14 -> 17815.174 | J15: =$C$14*J14 -> 17815.174 | K15: =$C$14*K14 -> 17815.174 | L15: =$C$14*L14 -> 17815.174 | O15: =SUM(D15:N15) -> 142521.39
A16: 5 | B16: Contenções | C16: ='PLANILHA ORÇAMENTÁRIA'!J24 -> 0 | O16: 0,00' %'
O17: =SUM(D17:N17) -> 0
A18: 6 | B18: Alvenarias e Divisões | C18: ='PLANILHA ORÇAMENTÁRIA'!J25 -> 87524.27 | E18: 0.17 | F18: 0.17 | G18: 0.17 | H18: 0.17 | J18: 0.17 | K18: 0.15 | O18: 100,00' %'
E19: =$C$18*E18 -> 14879.126 | F19: =$C$18*F18 -> 14879.126 | G19: =$C$18*G18 -> 14879.126 | H19: =$C$18*H18 -> 14879.126 | J19: =$C$18*J18 -> 14879.126 | K19: =$C$18*K18 -> 13128.64 | O19: =SUM(D19:N19) -> 87524.27
A20: 7 | B20: Coberturas e Forro | C20: ='PLANILHA ORÇAMENTÁRIA'!J28 -> 64092.44 | L20: 0.35 | M20: 0.35 | N20: 0.3 | O20: 100,00' %'
L21: =$C$20*L20 -> 22432.354 | M21: =$C$20*M20 -> 22432.354 | N21: =$C$20*N20 -> 19227.732 | O21: =SUM(D21:N21) -> 64092.44
A22: 8 | B22: Impermeabilizações e Isolamentos | C22: ='PLANILHA ORÇAMENTÁRIA'!J33 -> 417.45 | D22: 0.8 | E22: 0.2 | O22: 100,00' %'
D23: =$C$22*D22 -> 333.96 | E23: =$C$22*E22 -> 83.49 | O23: =SUM(D23:N23) -> 417.45
A24: 9 | B24: Instalações Hidro-Sanitária | C24: ='PLANILHA ORÇAMENTÁRIA'!J35 -> 26469.06 | D24: 0.1 | E24: 0.1 | F24: 0.1 | G24: 0.1 | H24: 0.1 | J24: 0.1 | K24: 0.1 | L24: 0.1 | M24: 0.1 | N24: 0.1 | O24: 100,00' %'
D25: =$C$24*D24 -> 2646.906 | E25: =$C$24*E24 -> 2646.906 | F25: =$C$24*F24 -> 2646.906 | G25: =$C$24*G24 -> 2646.906 | H25: =$C$24*H24 -> 2646.906 | J25: =$C$24*J24 -> 2646.906 | K25: =$C$24*K24 -> 2646.906 | L25: =$C$24*L24 -> 2646.906 | M25: =$C$24*M24 -> 2646.906 | N25: =$C$24*N24 -> 2646.906 | O25: =SUM(D25:N25) -> 26469.06
A26: 10 | B26: Instalações Elétricas | C26: ='PLANILHA ORÇAMENTÁRIA'!J101 -> 33369.09 | D26: 0.1 | E26: 0.1 | F26: 0.1 | G26: 0.1 | H26: 0.1 | J26: 0.1 | K26: 0.1 | L26: 0.1 | M26: 0.1 | N26: 0.1 | O26: 100,00' %'
D27: =$C$26*D26 -> 3336.909 | E27: =$C$26*E26 -> 3336.909 | F27: =$C$26*F26 -> 3336.909 | G27: =$C$26*G26 -> 3336.909 | H27: =$C$26*H26 -> 3336.909 | J27: =$C$26*J26 -> 3336.909 | K27: =$C$26*K26 -> 3336.909 | L27: =$C$26*L26 -> 3336.909 | M27: =$C$26*M26 -> 3336.909 | N27: =$C$26*N26 -> 3336.909 | O27: =SUM(D27:N27) -> 33369.09
A28: 11 | B28: Esquadria de Madeira | C28: ='PLANILHA ORÇAMENTÁRIA'!J131 -> 6947.46 | L28: 0.33 | M28: 0.33 | N28: 0.34 | O28: 100,00' %'
L29: =$C$28*L28 -> 2292.6618 | M29: =$C$28*M28 -> 2292.6618 | N29: =$C$28*N28 -> 2362.1364 | O29: =SUM(D29:N29) -> 6947.46
A30: 12 | B30: Serralheria | C30: ='PLANILHA ORÇAMENTÁRIA'!J133 -> 29791.52 | L30: 0.3 | M30: 0.35 | N30: 0.35 | O30: 100,00' %'
L31: =$C$30*L30 -> 8937.456 | M31: =$C$30*M30 -> 10427.032 | N31: =$C$30*N30 -> 10427.032 | O31: =SUM(D31:N31) -> 29791.52
A32: 13 | B32: Revestimentos | C32: ='PLANILHA ORÇAMENTÁRIA'!J136 -> 81024.83 | K32: 0.25 | L32: 0.25 | M32: 0.25 | N32: 0.25 | O32: 100,00' %'
K33: =$C$32*K32 -> 20256.208 | L33: =$C$32*L32 -> 20256.208 | M33: =$C$32*M32 -> 20256.208 | N33: =$C$32*N32 -> 20256.208 | O33: =SUM(D33:N33) -> 81024.83
A34: 14 | B34: Pisos, Rodapés, Soleiras e Peitoris | C34: ='PLANILHA ORÇAMENTÁRIA'!J140 -> 65210.38 | K34: 0.25 | L34: 0.25 | M34: 0.25 | N34: 0.25 | O34: 100,00' %'
K35: =$C$34*K34 -> 16302.595 | L35: =$C$34*L34 -> 16302.595 | M35: =$C$34*M34 -> 16302.595 | N35: =$C$34*N34 -> 16302.595 | O35: =SUM(D35:N35) -> 65210.38
A36: 15 | B36: Vidros e Espelhos | C36: ='PLANILHA ORÇAMENTÁRIA'!J145 -> 15684.87 | L36: 0.3 | M36: 0.35 | N36: 0.35 | O36: 100,00' %'
L37: =$C$36*L36 -> 4705.461 | M37: =$C$36*M36 -> 5489.7045 | N37: =$C$36*N36 -> 5489.7045 | O37: =SUM(D37:N37) -> 15684.87
A38: 16 | B38: Pintura | C38: ='PLANILHA ORÇAMENTÁRIA'!J147 -> 49639.32 | K38: 0.25 | L38: 0.25 | M38: 0.25 | N38: 0.25 | O38: 100,00' %'
K39: =$C$38*K38 -> 12409.83 | L39: =$C$38*L38 -> 12409.83 | M39: =$C$38*M38 -> 12409.83 | N39: =$C$38*N38 -> 12409.83 | O39: =SUM(D39:N39) -> 49639.32
A40: 17 | B40: Bancadas | C40: ='PLANILHA ORÇAMENTÁRIA'!J149 -> 1114.4 | M40: 1 | O40: 100,00' %'
M41: =C40*M40 -> 1114.4 | O41: =SUM(D41:N41) -> 1114.4
A42: 18 | B42: Urbanização | C42: ='PLANILHA ORÇAMENTÁRIA'!J151 -> 2914.49 | M42: 0.5 | N42: 0.5 | O42: 100,00' %'
...
