Workbook

Sheet PLANILHA ORÇAMENTÁRIA
A1: PO - PLANILHA ORÇAMENTÁRIA
A2: FONTE: | C2: DATA BASE | D2: EMPREENDIMENTO | G2: MUNICÍPIO / UF | H2: BDI 1
A3: SINAPI - MG | C3: 10-21 (N DES.) | D3: CONSTRUÇÃO PREVIJAN | G3: JANAÚBA / MG | H3: 21.43
A4: SUDECAP
A6: Item | B6: Fonte | C6: Código | D6: Descrição | E6: Unidade | F6: Quantidade | G6: Custo Unitário (sem BDI) (R$) | H6: BDI (%) | I6: Preço Unitário (com BDI) (R$) | J6: Preço Total (R$)
B7: SINAPI | D7: PREVIJAN | E7: - | F7: 0 | H7: BDI 1 | I7: 0 | J7: 622241.22
A8: 1 | B8: SINAPI | D8: Instalção da Obra | E8: - | F8: 0 | H8: BDI 1 | I8: 0 | J8: 12777.05
A9: 1.1 | B9: SUDECAP | C9: 01.06.01 | D9: PADRÃO CEMIG PROVISÓRIO TIPO C3, DEMANDA PROVÁVEL DE 23,1 ATÉ 27,0KW (3F+N) | E9: UN | F9: 1 | G9: 753.29 | H9: BDI 1 | I9: 914.72 | J9: 914.72
A10: 1.2 | B10: SUDECAP | C10: 01.06.05 | D10: PADRAO COPASA - KIT CAVALTE METAL E REGISTRO 3/4" | E10: UN | F10: 1 | G10: 350.17 | H10: BDI 1 | I10: 425.21 | J10: 425.21
A11: 1.3 | B11: SUDECAP | C11: 01.17.01 | D11: GABARITO | E11: M | F11: 412 | G11: 22.86 | H11: BDI 1 | I11: 27.76 | J11: 11437.12
A12: 2 | B12: SINAPI | D12: Demolições e Remoções | E12: - | F12: 0 | G12: 0 | H12: BDI 1 | I12: 0 | J12: 0
A13: 3 | B13: SINAPI | D13: Trabalhos em Terra | E13: - | F13: 0 | H13: BDI 1 | I13: 0 | J13: 2743.2
A14: 3.1 | B14: SUDECAP | C14: 03.01.01 | D14: CAPINA MANUAL DE TERRENO | E14: M2 | F14: 600 | G14: 3.14 | H14: BDI 1 | I14: 3.81 | J14: 2286
A15: 3.2 | B15: SUDECAP | C15: 03.13.01 | D15: DMT <= 1 KM | E15: M3 | F15: 120 | G15: 3.14 | H15: BDI 1 | I15: 3.81 | J15: 457.2
A16: 4 | B16: SINAPI | D16: Fundação e Estrutura em concreto | E16: - | F16: 0 | G16: 0 | H16: BDI 1 | I16: 0 | J16: 142521.39
A17: 4.1 | B17: SUDECAP | C17: 40.20.07 | D17: FORMA DE TABUA DE PINHO DE 3a. TIPO C (5 APROV.) | E17: M2 | F17: 592.25 | G17: 58.63 | H17: BDI 1 | I17: 71.19 | J17: 42162.28
A18: 4.2 | B18: SUDECAP | C18: 04.15.21 | D18: AÇO CA-50 D = 6,3 MM | E18: KG | F18: 529 | G18: 15.3 | H18: BDI 1 | I18: 18.58 | J18: 9828.82
A19: 4.3 | B19: SUDECAP | C19: 04.15.22 | D19: AÇO CA-50 D = 8 MM | E19: KG | F19: 1500 | G19: 14.46 | H19: BDI 1 | I19: 17.56 | J19: 26340
A20: 4.4 | B20: SUDECAP | C20: 04.15.23 | D20: AÇO CA-50 D = 10 MM | E20: KG | F20: 1155 | G20: 12.56 | H20: BDI 1 | I20: 15.25 | J20: 17613.75
A21: 4.5 | B21: SUDECAP | C21: 06.03.24 | D21: AÇO CA-50 D = 12,5 MM (LAJES) | E21: KG | F21: 5.25 | G21: 10.52 | H21: BDI 1 | I21: 12.77 | J21: 67.04
A22: 4.6 | B22: SUDECAP | C22: 06.05.25 | D22: FCK >= 25 MPA, BRITA CALCÁRIA, PREPARADO EM OBRA E LANÇADO EM ESTRUTURA | E22: M3 | F22: 67.55 | G22: 554.73 | H22: BDI 1 | I22: 673.61 | J22: 45502.36
A23: 4.7 | B23: SUDECAP | C23: 40.32.07 | D23: ESCAVACAO MANUAL 1,5 < H <= 3,0 M | E23: M3 | F23: 14.51 | G23: 57.16 | H23: BDI 1 | I23: 69.41 | J23: 1007.14
A24: 5 | B24: SINAPI | D24: Contenções | E24: - | F24: 0 | G24: 0 | H24: BDI 1 | I24: 0 | J24: 0
A25: 6 | B25: SINAPI | D25: Alvenarias e Divisões | E25: - | F25: 0 | G25: 0 | H25: BDI 1 | I25: 0 | J25: 87524.27
A26: 6.1 | B26: SINAPI | C26: 87479 | D26: ALVENARIA DE VEDAÇÃO DE BLOCOS CERÂMICOS FURADOS NA VERTICAL DE 14X19X39CM (ESPESSURA 14CM) DE PAREDES COM ÁREA LÍQUIDA MAIOR OU IGUAL A 6M² SEM VÃOS E ARGAMASSA DE ASSENTAMENTO COM PREPARO EM BETONEIRA. AF_06/2014 | E26: M2 | F26: 932.32 | G26: 66.67 | H26: BDI 1 | I26: 80.96 | J26: 75480.63
A27: 6.2 | B27: SINAPI | C27: 87873 | D27: CHAPISCO APLICADO EM ALVENARIAS E ESTRUTURAS DE CONCRETO INTERNAS, COM ROLO PARA TEXTURA ACRÍLICA. ARGAMASSA TRAÇO 1:4 E EMULSÃO POLIMÉRICA (ADESIVO) COM PREPARO MANUAL. AF_06/2014 | E27: M2 | F27: 1864.34 | G27: 5.32 | H27: BDI 1 | I27: 6.46 | J27: 12043.64
A28: 7 | B28: SINAPI | D28: Coberturas e Forro | E28: - | F28: 0 | G28: 0 | H28: BDI 1 | I28: 0 | J28: 64092.44
A29: 7.1 | B29: SUDECAP | C29: 08.22.01 | D29: EM PLACAS 60 X 60 CM, LISO | E29: M2 | F29: 368.94 | G29: 32 | H29: BDI 1 | I29: 38.86 | J29: 14337.01
A30: 7.2 | B30: SUDECAP | C30: 08.12.40 | D30: GALVANIZADA TRAPEZOIDAL E=0,50MM SIMPLES | E30: M2 | F30: 200.95 | G30: 73.23 | H30: BDI 1 | I30: 88.92 | J30: 17868.47
A31: 7.3 | B31: SINAPI | C31: 100378 | D31: FABRICAÇÃO E INSTALAÇÃO DE TESOURA (INTEIRA OU MEIA) EM AÇO, VÃOS MAIORES QUE 6,0 M E MENORES QUE 12,0 M, INCLUSO IÇAMENTO. AF_07/2019 | E31: KG | F31: 1720.31 | G31: 10.57 | H31: BDI 1 | I31: 12.84 | J31: 22088.78
A32: 7.4 | B32: SUDECAP | C32: 08.09.05 | D32: ONDULADA E= 5,00 MM | E32: M2 | F32: 193.64 | G32: 41.67 | H32: BDI 1 | I32: 50.6 | J32: 9798.18
A33: 8 | B33: SINAPI | D33: Impermeabilização e Isolamentos | E33: - | F33: 0 | G33: 0 | H33: BDI 1 | I33: 0 | J33: 417.45
A34: 8.1 | B34: SUDECAP | C34: 09.12.01 | D34: PINTURA COM TINTA ASFALTICA IMPERMEABILIZANTE DILUIDA EM SOLVENTE, PARA MATERIAIS CIMENTICIOS, METAL E MADEIRA | E34: M2 | F34: 27.5 | G34: 12.5 | H34: BDI 1 | I34: 15.18 | J34: 417.45
A35: 9 | B35: SINAPI | D35: Instalações Hidro-Sanitárias | E35: - | F35: 0 | G35: 0 | H35: BDI 1 | I35: 0 | J35: 26469.06
A36: 9.1 | B36: SINAPI | C36: 100860 | D36: CHUVEIRO ELÉTRICO COMUM CORPO PLÁSTICO, TIPO DUCHA  FORNECIMENTO E INSTALAÇÃO. AF_01/2020 | E36: UN | F36: 3 | G36: 80.16 | H36: BDI 1 | I36: 97.34 | J36: 292.02
A37: 9.2 | B37: SUDECAP | C37: 10.27.23 | D37: DUCHINHA ACQUA-JET C-2195 DL FABRIMAR/EQUIVALENTE | E37: UN | F37: 4 | G37: 46.83 | H37: BDI 1 | I37: 56.87 | J37: 227.48
A38: 9.3 | B38: SUDECAP | C38: 10.24.17 | D38: DE JARDIM 1128-MY D=3/4" FABRIMAR/EQUIVALENTE | E38: UN | F38: 1 | G38: 36.41 | H38: BDI 1 | I38: 44.21 | J38: 44.21
A39: 9.4 | B39: SINAPI | C39: 86910 | D39: TORNEIRA CROMADA TUBO MÓVEL, DE PAREDE, 1/2 OU 3/4, PARA PIA DE COZINHA, PADRÃO MÉDIO - FORNECIMENTO E INSTALAÇÃO. AF_01/2020 | E39: UN | F39: 1 | G39: 93.96 | H39: BDI 1 | I39: 114.1 | J39: 114.1
A40: 9.5 | B40: SINAPI | C40: 86916 | D40: TORNEIRA PLÁSTICA 3/4 PARA TANQUE - FORNECIMENTO E INSTALAÇÃO. AF_01/2020 | E40: UN | F40: 1 | G40: 35.69 | H40: BDI 1 | I40: 43.34 | J40: 43.34
A41: 9.6 | B41: SINAPI | C41: 86906 | D41: TORNEIRA CROMADA DE MESA, 1/2 OU 3/4, PARA LAVATÓRIO, PADRÃO POPULAR - FORNECIMENTO E INSTALAÇÃO. AF_01/2020 | E41: UN | F41: 5 | G41: 55.08 | H41: BDI 1 | I41: 66.88 | J41: 334.4
A42: 9.7 | B42: SINAPI | C42: 86931 | D42: VASO SANITÁRIO SIFONADO COM CAIXA ACOPLADA LOUÇA BRANCA, INCLUSO ENGATE FLEXÍVEL EM PLÁSTICO BRANCO, 1/2 X 40CM - FORNECIMENTO E INSTALAÇÃO. AF_01/2020 | E42: UN | F42: 4 | G42: 401.82 | H42: BDI 1 | I42: 487.93 | J42: 1951.72
A43: 9.8 | B43: SUDECAP | C43: 76.30.02 | D43: CAIXA GORDURA DUPLA, CONCRETO PRE MOLDADO, CIRCULAR, COM TAMPA, D = 60* CM | E43: UN | F43: 1 | G43: 279.9 | H43: BDI 1 | I43: 339.88 | J43: 339.88
A44: 9.9 | B44: SUDECAP | C44: 19.15.02 | D44: CAIXA DE DRENAGEM DE INSPEÇÃO/PASSAGEM EM ALVENARIA (50X50X60CM), REVESTIMENTO EM ARGAMASSA COM ADITIVO IMPERMEABILIZANTE, COM TAMPA EM GRELHA, INCLUSIVE ESCAVAÇÃO, REATERRO E TRANSPORTE E RETIRADA DO MATERIAL ESCAVADO (EM CAÇAMBA) | E44: UN | F44: 4 | G44: 1225.77 | H44: BDI 1 | I44: 1488.45 | J44: 5953.8
A45: 9.10 | B45: SUDECAP | C45: 10.90.16 | D45: REGISTRO GLOBO FECHO RAPIDO 3/4" | E45: UN | F45: 2 | G45: 58.44 | H45: BDI 1 | I45: 70.96 | J45: 141.92
A46: 9.11 | B46: SINAPI | C46: 90371 | D46: REGISTRO DE ESFERA VS FECHO RAPIDO 3/4 | E46: UN | F46: 1 | G46: 26.68 | H46: BDI 1 | I46: 32.4 | J46: 32.4
A47: 9.12 | B47: SUDECAP | C47: 10.22.02 | D47: REGISTRO GAVETA BRUTO 1510-B 3/4"FABRIMAR /EQUIVALENTE | E47: UN | F47: 7 | G47: 50.29 | H47: BDI 1 | I47: 61.07 | J47: 427.49
... A100: 9.65 | B100: SUDECAP | C100: 10.35.52 | D100: CAIXA D'AGUA POLIETILENO COM TAMPA 1000 L | E100: UN | F100: 2 | G100: 459.12 | H100: BDI 1 | I100: 557.51 | J100: 1115.02
A101: 10 | B101: SINAPI | D101: Instalações Elétricas | E101: - | F101: 0 | G101: 0 | H101: BDI 1 | I101: 0 | J101: 33369.09
A102: 10.1 | B102: SINAPI | C102: 97617 | D102: LÂMPADA TUBULAR FLUORESCENTE, BASE G13, POTÊNCIA 40W, FORNECIMENTO E INSTALAÇÃO, EXCLUSIVE REATOR E LUMINÁRIA | E102: UN | F102: 74 | G102: 62.82 | H102: BDI 1 | I102: 76.28 | J102: 5644.72
A103: 10.2 | B103: SUDECAP | C103: 74.08.25 | D103: CAIXA DE EMBUTIR EM PVC 2X4" TIGRE OU EQUIVALENTE | E103: UN | F103: 98 | G103: 1.28 | H103: BDI 1 | I103: 1.55 | J103: 151.9
A104: 10.3 | B104: SINAPI | C104: 92023 | D104: INTERRUPTOR SIMPLES (1 MÓDULO) COM 1 TOMADA DE EMBUTIR 2P+T 10 A, INCLUINDO SUPORTE E PLACA - FORNECIMENTO E INSTALAÇÃO. AF_12/2015 | E104: UN | F104: 74 | G104: 41.56 | H104: BDI 1 | I104: 50.47 | J104: 3734.78
A105: 10.4 | B105: SINAPI | C105: 97584 | D105: LUMINARIA DE SOBREPOR EM CHAPA DE ACO PARA 1 LAMPADA FLUORESCENTE DE *36* W, ALETADA, COMPLETA (LAMPADA E REATOR INCLUSOS) | E105: UN | F105: 4 | G105: 119.31 | H105: BDI 1 | I105: 144.88 | J105: 579.52
A106: 10.5 | B106: SINAPI | C106: 91914 | D106: CURVA 90 GRAUS PARA ELETRODUTO, PVC, ROSCÁVEL, DN 25 MM (3/4"), PARA CIRCUITOS TERMINAIS, INSTALADA EM PAREDE - FORNECIMENTO E INSTALAÇÃO. AF_12/2015 | E106: UN | F106: 28 | G106: 12.72 | H106: BDI 1 | I106: 15.45 | J106: 432.6
A107: 10.6 | B107: SINAPI | C107: 95727 | D107: ELETRODUTO RÍGIDO SOLDÁVEL, PVC, DN 25 MM (3/4??), APARENTE, INSTALADO EM TETO - FORNECIMENTO E INSTALAÇÃO. AF_11/2016_P | E107: M | F107: 345 | G107: 7.07 | H107: BDI 1 | I107: 8.59 | J107: 2963.55
A108: 10.7 | B108: SINAPI | C108: 91966 | D108: INTERRUPTORES PARALELOS (3 MODULOS) 10A, 250V, CONJUNTO MONTADO PARA EMBUTIR 4" X 2" (PLACA + SUPORTE + MODULO) | E108: UN | F108: 2 | G108: 43.59 | H108: BDI 1 | I108: 52.93 | J108: 105.86
A109: 10.8 | B109: SUDECAP | C109: 74.24.12 | D109: INTERRUPTORES SIMPLES (2 MODULOS) 10A, 250V, CONJUNTO MONTADO PARA EMBUTIR 4" X 2" (PLACA + SUPORTE + MODULOS) | E109: UN | F109: 2 | G109: 12.48 | H109: BDI 1 | I109: 15.15 | J109: 30.3
A110: 10.9 | B110: SINAPI | C110: 91953 | D110: INTERRUPTOR SIMPLES (1 MÓDULO), 10A/250V, INCLUINDO SUPORTE E PLACA - FORNECIMENTO E INSTALAÇÃO. AF_12/2015 | E110: UN | F110: 20 | G110: 23.51 | H110: BDI 1 | I110: 28.55 | J110: 571
A111: 10.10 | B111: SINAPI | C111: 74.08.25 | D111: CAIXA DE EMBUTIR EM PVC 2X4" TIGRE OU EQUIVALENTE | E111: - | F111: 98 | G111: 0 | H111: BDI 1 | I111: 0 | J111: 0
A112: 10.11 | B112: SINAPI | C112: 74.37.05 | D112: LAMPADA LED 10 W BIVOLT BRANCA, FORMATO TRADICIONAL (BASE E27) | E112: - | F112: 4 | G112: 0 | H112: BDI 1 | I112: 0 | J112: 0
A113: 10.12 | B113: SINAPI | C113: 97590 | D113: LUMINARIA DE EMBUTIR PLAFON 18W LED BRANCO FRIO 22,5x22,5 | E113: UN | F113: 15 | G113: 93.38 | H113: BDI 1 | I113: 113.39 | J113: 1700.85
... A130: 10.29 | B130: SINAPI-I | C130: 12042 | D130: QUADRO DE DISTRIBUICAO COM BARRAMENTO TRIFASICO, DE EMBUTIR, EM CHAPA DE ACO GALVANIZADO, PARA 48 DISJUNTORES DIN, 100 A | E130: UN | F130: 1 | G130: 1239.82 | H130: BDI 1 | I130: 1505.51 | J130: 1505.51
A131: 11 | B131: SINAPI | D131: Esquadria de Madeira | E131: - | F131: 0 | G131: 0 | H131: BDI 1 | I131: 0 | J131: 6947.46
A132: 11.1 | B132: SINAPI | C132: 91011 | D132: KIT PORTA PRONTA DE MADEIRA, FOLHA LEVE (NBR 15930) DE 80x210cm E=35mm NUCLEO COLMEIA, ESTRUTURA USINADA PARA FECHADURA, CAPA LISA EM HDF, ACABAMENTO EM PRIMER PARA PINTURA COM MARCO, ALIZARES E DOBRADICAS | E132: UN | F132: 18 | G132: 317.85 | H132: BDI 1 | I132: 385.97 | J132: 6947.46
A133: 12 | B133: SINAPI | D133: Serralheria | E133: - | F133: 0 | G133: 0 | H133: BDI 1 | I133: 0 | J133: 29791.52
A134: 12.1 | B134: SINAPI | C134: 99861 | D134: GRADIL EXTERNO DE PROTECAO EM FERRO | E134: M2 | F134: 39 | G134: 568.53 | H134: BDI 1 | I134: 690.37 | J134: 26924.43
A135: 12.2 | B135: SINAPI | C135: 100701 | D135: PORTA DE FERRO, DE ABRIR, TIPO GRADE COM CHAPA, COM GUARNIÇÕES. AF_12/2019 | E135: M2 | F135: 4.2 | G135: 562.17 | H135: BDI 1 | I135: 682.64 | J135: 2867.09
A136: 13 | B136: SINAPI | D136: Revestimentos | E136: - | F136: 0 | G136: 0 | H136: BDI 1 | I136: 0 | J136: 81024.83
A137: 13.1 | B137: SUDECAP | C137: 14.05.34 | D137: REBOCO COM ARGAMASSA 1:4 | E137: M2 | F137: 1864.34 | G137: 30.98 | H137: BDI 1 | I137: 37.62 | J137: 70136.47
A138: 13.2 | B138: SUDECAP | C138: 14.05.21 | D138: EMBOÇO COM ARGAMASSA 1:6 CIMENTO E AREIA | E138: M2 | F138: 101.58 | G138: 22.49 | H138: BDI 1 | I138: 27.31 | J138: 2774.15
A139: 13.3 | B139: SUDECAP | C139: 14.15.05 | D139: BRANCO 15X15 CM, EXTRA | E139: M2 | F139: 101.58 | G139: 65.78 | H139: BDI 1 | I139: 79.88 | J139: 8114.21
A140: 14 | B140: SINAPI | D140: Pisos, Rodapés, Soleiras e Peitoris | E140: - | F140: 0 | G140: 0 | H140: BDI 1 | I140: 0 | J140: 65210.38
A141: 14.1 | B141: SUDECAP | C141: 15.17.22 | D141: PEI-5 45X45CM CARGO PLUS COR GRAY/WHITE ELIANE/EQUIVALENTE | E141: M2 | F141: 445.5 | G141: 70.34 | H141: BDI 1 | I141: 85.41 | J141: 38050.16
A142: 14.2 | B142: SUDECAP | C142: 15.46.08 | D142: MARMORE BRANCO, H= 7 CM | E142: M | F142: 678.18 | G142: 30.51 | H142: BDI 1 | I142: 37.05 | J142: 25126.57
A143: 14.3 | B143: SUDECAP | C143: 15.54.07 | D143: SOLEIRA DE GRANITO CINZA CORUMBA E= 2 CM | E143: M2 | F143: 3.87 | G143: 325.78 | H143: BDI 1 | I143: 395.59 | J143: 1530.93
A144: 14.4 | B144: SUDECAP | C144: 15.58.02 | D144: PEITORIL DE MARMORE BRANCO, E= 2 CM | E144: M2 | F144: 1.85 | G144: 223.78 | H144: BDI 1 | I144: 271.74 | J144: 502.72
A145: 15 | B145: SINAPI | D145: Vidros e Espelhos | E145: - | F145: 0 | G145: 0 | H145: BDI 1 | I145: 0 | J145: 15684.87
A146: 15.1 | B146: SINAPI | C146: 102180 | D146: INSTALAÇÃO DE VIDRO TEMPERADO, E = 8 MM, ENCAIXADO EM PERFIL U. AF_01/2021_P | E146: M2 | F146: 41.89 | G146: 308.35 | H146: BDI 1 | I146: 374.43 | J146: 15684.87
A147: 16 | B147: SINAPI | D147: Pintura | E147: - | F147: 0 | G147: 0 | H147: BDI 1 | I147: 0 | J147: 49639.32
A148: 16.1 | B148: SUDECAP | C148: 17.07.10 | D148: INCLUSIVE EMASSAMENTO C/FUNDO PREPARADOR DE PAREDE | E148: M2 | F148: 1762.76 | G148: 23.19 | H148: BDI 1 | I148: 28.16 | J148: 49639.32
A149: 17 | B149: SINAPI | D149: Bancadas | E149: - | F149: 0 | G149: 0 | H149: BDI 1 | I149: 0 | J149: 1114.4
A150: 17.1 | B150: SUDECAP | C150: 18.08.41 | D150: DE GRANITO CINZA CORUMBA 2CM APOIADA EM PAREDES | E150: M2 | F150: 3.5 | G150: 262.21 | H150: BDI 1 | I150: 318.4 | J150: 1114.4
A151: 18 | B151: SINAPI | D151: Urbanização | E151: - | F151: 0 | G151: 0 | H151: BDI 1 | I151: 0 | J151: 2914.49
A152: 18.1 | B152: SUDECAP | C152: 21.05.01 | D152: DE CONCRETO 15 MPA E=6CM JUNTA SECA 3M MANUAL | E152: M2 | F152: 49.32 | G152: 38.48 | H152: BDI 1 | I152: 46.73 | J152: 2304.72
A153: 18.2 | B153: SINAPI | C153: 98504 | D153: PLANTIO DE GRAMA EM PLACAS. AF_05/2018 | E153: M2 | F153: 45.37 | G153: 11.07 | H153: BDI 1 | I153: 13.44 | J153: 609.77
D171: Janaúba/MG – Dezembro de 2021
D177: Contratada: LSS - CONSTRUTORA
D178: CNPJ: N° 32.008.792/0001-37
D179: Responsável Técnico: Luana Jamille Amorim Soares
D180: CREA-MG 239622/D

Sheet CRONOGRAMA FÍSICO-FINANCEIRO
A1: CRONOGRAMA FÍSICO-FINANCEIRO
A2: FONTE: | C2: DATA BASE | D2: EMPREENDIMENTO | K2: MUNICÍPIO / UF | M2: BDI 1
A3: SINAPI - MG | C3: 10-21 (N DES.) | D3: CONSTRUÇÃO PREVIJAN | K3: JANAÚBA / MG | M3: 21.43
A4: SUDECAP
A7: ITEM | B7: DESCRIÇÃO | C7: VALOR (R$) | D7: MÊS 1 | E7: MÊS 2 | F7: MÊS 3 | G7: MÊS 4 | H7: MÊS 5 | J7: MÊS 6 | K7: MÊS 7 | L7: MÊS 8 | M7: MÊS 9 | N7: MÊS 10 | O7: Total parcela
A8: 1 | B8: Instalação da Obra | C8: ='PLANILHA ORÇAMENTÁRIA'!J8 -> 12777.05 | D8: 1 | O8: 100,00' %'
D9: =C8*D8 -> 12777.05 | O9: =SUM(D9:N9) -> 12777.05
A10: 2 | B10: Demolições e Remoções | C10: ='PLANILHA ORÇAMENTÁRIA'!J12 -> 0 | O10: 0,00' %'
O11: 0
A12: 3 | B12: Trabalhos em Terra | C12: ='PLANILHA ORÇAMENTÁRIA'!J13 -> 2743.2 | D12: 0.25 | E12: 0.25 | F12: 0.25 | G12: 0.25 | O12: 100,00' %'
D13: =$C$12*D12 -> 685.8 | E13: =$C$12*E12 -> 685.8 | F13: =$C$12*F12 -> 685.8 | G13: =$C$12*G12 -> 685.8 | O13: =SUM(D13:G13) -> 2743.2
A14: 4 | B14: Fundação e Estrutura em concreto | C14: ='PLANILHA ORÇAMENTÁRIA'!J16 -> 142521.39 | D14: 0.125 | E14: 0.125 | F14: 0.125 | G14: 0.125 | H14: 0.125 | J14: 0.125 | K14: 0.125 | L14: 0.125 | O14: 100,00' %'
D15: =$C$14*D14 -> 17815.174 | E15: =$C$14*E14 -> 17815.174 | F15: =$C$14*F14 -> 17815.174 | G15: =$C$14*G14 -> 17815.174 | H15: =$C$14*H14 -> 17815.174 | J15: =$C$14*J14 -> 17815.174 | K15: =$C$14*K14 -> 17815.174 | L15: =$C$14*L14 -> 17815.174 | O15: =SUM(D15:N15) -> 142521.39
A16: 5 | B16: Contenções | C16: ='PLANILHA ORÇAMENTÁRIA'!J24 -> 0 | O16: 0,00' %'
O17: =SUM(D17:N17) -> 0
A18: 6 | B18: Alvenarias e Divisões | C18: ='PLANILHA ORÇAMENTÁRIA'!J25 -> 87524.27 | E18: 0.17 | F18: 0.17 | G18: 0.17 | H18: 0.17 | J18: 0.17 | K18: 0.15 | O18: 100,00' %'
E19: =$C$18*E18 -> 14879.126 | F19: =$C$18*F18 -> 14879.126 | G19: =$C$18*G18 -> 14879.126 | H19: =$C$18*H18 -> 14879.126 | J19: =$C$18*J18 -> 14879.126 | K19: =$C$18*K18 -> 13128.64 | O19: =SUM(D19:N19) -> 87524.27
A20: 7 | B20: Coberturas e Forro | C20: ='PLANILHA ORÇAMENTÁRIA'!J28 -> 64092.44 | L20: 0.35 | M20: 0.35 | N20: 0.3 | O20: 100,00' %'
L21: =$C$20*L20 -> 22432.354 | M21: =$C$20*M20 -> 22432.354 | N21: =$C$20*N20 -> 19227.732 | O21: =SUM(D21:N21) -> 64092.44
A22: 8 | B22: Impermeabilizações e Isolamentos | C22: ='PLANILHA ORÇAMENTÁRIA'!J33 -> 417.45 | D22: 0.8 | E22: 0.2 | O22: 100,00' %'
D23: =$C$22*D22 -> 333.96 | E23: =$C$22*E22 -> 83.49 | O23: =SUM(D23:N23) -> 417.45
A24: 9 | B24: Instalações Hidro-Sanitária | C24: ='PLANILHA ORÇAMENTÁRIA'!J35 -> 26469.06 | D24: 0.1 | E24: 0.1 | F24: 0.1 | G24: 0.1 | H24: 0.1 | J24: 0.1 | K24: 0.1 | L24: 0.1 | M24: 0.1 | N24: 0.1 | O24: 100,00' %'
D25: =$C$24*D24 -> 2646.906 | E25: =$C$24*E24 -> 2646.906 | F25: =$C$24*F24 -> 2646.906 | G25: =$C$24*G24 -> 2646.906 | H25: =$C$24*H24 -> 2646.906 | J25: =$C$24*J24 -> 2646.906 | K25: =$C$24*K24 -> 2646.906 | L25: =$C$24*L24 -> 2646.906 | M25: =$C$24*M24 -> 2646.906 | N25: =$C$24*N24 -> 2646.906 | O25: =SUM(D25:N25) -> 26469.06
A26: 10 | B26: Instalações Elétricas | C26: ='PLANILHA ORÇAMENTÁRIA'!J101 -> 33369.09 | D26: 0.1 | E26: 0.1 | F26: 0.1 | G26: 0.1 | H26: 0.1 | J26: 0.1 | K26: 0.1 | L26: 0.1 | M26: 0.1 | N26: 0.1 | O26: 100,00' %'
D27: =$C$26*D26 -> 3336.909 | E27: =$C$26*E26 -> 3336.909 | F27: =$C$26*F26 -> 3336.909 | G27: =$C$26*G26 -> 3336.909 | H27: =$C$26*H26 -> 3336.909 | J27: =$C$26*J26 -> 3336.909 | K27: =$C$26*K26 -> 3336.909 | L27: =$C$26*L26 -> 3336.909 | M27: =$C$26*M26 -> 3336.909 | N27: =$C$26*N26 -> 3336.909 | O27: =SUM(D27:N27) -> 33369.09
A28: 11 | B28: Esquadria de Madeira | C28: ='PLANILHA ORÇAMENTÁRIA'!J131 -> 6947.46 | L28: 0.33 | M28: 0.33 | N28: 0.34 | O28: 100,00' %'
L29: =$C$28*L28 -> 2292.6618 | M29: =$C$28*M28 -> 2292.6618 | N29: =$C$28*N28 -> 2362.1364 | O29: =SUM(D29:N29) -> 6947.46
A30: 12 | B30: Serralheria | C30: ='PLANILHA ORÇAMENTÁRIA'!J133 -> 29791.52 | L30: 0.3 | M30: 0.35 | N30: 0.35 | O30: 100,00' %'
L31: =$C$30*L30 -> 8937.456 | M31: =$C$30*M30 -> 10427.032 | N31: =$C$30*N30 -> 10427.032 | O31: =SUM(D31:N31) -> 29791.52
A32: 13 | B32: Revestimentos | C32: ='PLANILHA ORÇAMENTÁRIA'!J136 -> 81024.83 | K32: 0.25 | L32: 0.25 | M32: 0.25 | N32: 0.25 | O32: 100,00' %'
K33: =$C$32*K32 -> 20256.208 | L33: =$C$32*L32 -> 20256.208 | M33: =$C$32*M32 -> 20256.208 | N33: =$C$32*N32 -> 20256.208 | O33: =SUM(D33:N33) -> 81024.83
A34: 14 | B34: Pisos, Rodapés, Soleiras e Peitoris | C34: ='PLANILHA ORÇAMENTÁRIA'!J140 -> 65210.38 | K34: 0.25 | L34: 0.25 | M34: 0.25 | N34: 0.25 | O34: 100,00' %'
K35: =$C$34*K34 -> 16302.595 | L35: =$C$34*L34 -> 16302.595 | M35: =$C$34*M34 -> 16302.595 | N35: =$C$34*N34 -> 16302.595 | O35: =SUM(D35:N35) -> 65210.38
A36: 15 | B36: Vidros e Espelhos | C36: ='PLANILHA ORÇAMENTÁRIA'!J145 -> 15684.87 | L36: 0.3 | M36: 0.35 | N36: 0.35 | O36: 100,00' %'
L37: =$C$36*L36 -> 4705.461 | M37: =$C$36*M36 -> 5489.7045 | N37: =$C$36*N36 -> 5489.7045 | O37: =SUM(D37:N37) -> 15684.87
A38: 16 | B38: Pintura | C38: ='PLANILHA ORÇAMENTÁRIA'!J147 -> 49639.32 | K38: 0.25 | L38: 0.25 | M38: 0.25 | N38: 0.25 | O38: 100,00' %'
K39: =$C$38*K38 -> 12409.83 | L39: =$C$38*L38 -> 12409.83 | M39: =$C$38*M38 -> 12409.83 | N39: =$C$38*N38 -> 12409.83 | O39: =SUM(D39:N39) -> 49639.32
A40: 17 | B40: Bancadas | C40: ='PLANILHA ORÇAMENTÁRIA'!J149 -> 1114.4 | M40: 1 | O40: 100,00' %'
M41: =C40*M40 -> 1114.4 | O41: =SUM(D41:N41) -> 1114.4
A42: 18 | B42: Urbanização | C42: ='PLANILHA ORÇAMENTÁRIA'!J151 -> 2914.49 | M42: 0.5 | N42: 0.5 | O42: 100,00' %'
M43: =C42*M42 -> 1457.245 | N43: =N42*C42 -> 1457.245 | O43: =SUM(D43:N43) -> 2914.49
C44: =SUM(C8:C43) -> 622241.22 | D44: =SUM(D9,D11,D13,D15,D17,D19,D21,D23,D25,D27,D29,D31,D33,D35,D37,D39,D41,D43) -> 37595.799 | E44: =SUM(E9,E11,E13,E15,E17,E19,E21,E23,E25,E27,E29,E31,E33,E35,E37,E39,E41,E43) -> 39447.405 | F44: =SUM(F9,F11,F13,F15,F17,F19,F21,F23,F25,F27,F29,F31,F33,F35,F37,F39,F41,F43) -> 39363.915 | G44: =SUM(G9,G11,G13,G15,G17,G19,G21,G23,G25,G27,G29,G31,G33,G35,G37,G39,G41,G43) -> 39363.915 | H44: =SUM(H9,H11,H13,H15,H17,H19,H21,H23,H25,H27,H29,H31,H33,H35,H37,H39,H41,H43) -> 38678.115 | I44: =SUM(I9,I11,I13,I15,I17,I19,I21,I23,I25,I27,I29,I31,I33,I35,I37,I39,I41,I43) -> 0 | J44: =SUM(J9,J11,J13,J15,J17,J19,J21,J23,J25,J27,J29,J31,J33,J35,J37,J39,J41,J43) -> 38678.115 | K44: =SUM(K9,K11,K13,K15,K17,K19,K21,K23,K25,K27,K29,K31,K33,K35,K37,K39,K41,K43) -> 85896.262 | ... N44: =SUM(N9,N11,N13,N15,N17,N19,N21,N23,N25,N27,N29,N31,N33,N35,N37,N39,N41,N43) -> 93916.297 | O44: =SUM(O9,O11,O13,O15,O19,O21,O23,O25,O27,O29,O31,O33,O35,O37,O39,O41,O43) -> 622241.22
D45: =D44 -> 37595.799 | E45: =E44+D45 -> 77043.203 | F45: =F44+E45 -> 116407.12 | G45: =G44+F45 -> 155771.03 | H45: =H44+G45 -> 194449.15 | I45: =I44+H45 -> 194449.15 | J45: =J44+I45 -> 233127.26 | K45: =K44+J45 -> 319023.52 | L45: =L44+K45 -> 430159.08 | ... N45: =N44+M45 -> 622241.22
F84: Janaúba/MG – Dezembro de 2021
F90: Contratada: LSS - CONSTRUTORA
F91: CNPJ: N° 32.008.792/0001-37
F92: Responsável Técnico: Luana Jamille Amorim Soares
F93: CREA-MG 239622/D
